BEGIN:VCALENDAR
VERSION:2.0
PRODID:-//HSG Annen-Rüdinghausen - ECPv6.15.20//NONSGML v1.0//EN
CALSCALE:GREGORIAN
METHOD:PUBLISH
X-WR-CALNAME:HSG Annen-Rüdinghausen
X-ORIGINAL-URL:https://hsg-annen-ruedinghausen.de
X-WR-CALDESC:Veranstaltungen für HSG Annen-Rüdinghausen
REFRESH-INTERVAL;VALUE=DURATION:PT1H
X-Robots-Tag:noindex
X-PUBLISHED-TTL:PT1H
BEGIN:VTIMEZONE
TZID:Europe/Berlin
BEGIN:DAYLIGHT
TZOFFSETFROM:+0100
TZOFFSETTO:+0200
TZNAME:CEST
DTSTART:20230326T010000
END:DAYLIGHT
BEGIN:STANDARD
TZOFFSETFROM:+0200
TZOFFSETTO:+0100
TZNAME:CET
DTSTART:20231029T010000
END:STANDARD
BEGIN:DAYLIGHT
TZOFFSETFROM:+0100
TZOFFSETTO:+0200
TZNAME:CEST
DTSTART:20240331T010000
END:DAYLIGHT
BEGIN:STANDARD
TZOFFSETFROM:+0200
TZOFFSETTO:+0100
TZNAME:CET
DTSTART:20241027T010000
END:STANDARD
BEGIN:DAYLIGHT
TZOFFSETFROM:+0100
TZOFFSETTO:+0200
TZNAME:CEST
DTSTART:20250330T010000
END:DAYLIGHT
BEGIN:STANDARD
TZOFFSETFROM:+0200
TZOFFSETTO:+0100
TZNAME:CET
DTSTART:20251026T010000
END:STANDARD
END:VTIMEZONE
BEGIN:VEVENT
DTSTART;TZID=Europe/Berlin:20241002T150000
DTEND;TZID=Europe/Berlin:20241002T200000
DTSTAMP:20260421T202233
CREATED:20240911T193452Z
LAST-MODIFIED:20240922T112806Z
UID:8141-1727881200-1727899200@hsg-annen-ruedinghausen.de
SUMMARY:Beachplatz Opening
DESCRIPTION:Unser neuer Beachplatz wird eröffnet. Kommt vorbei!
URL:https://hsg-annen-ruedinghausen.de/event/beachplatz-opening/
LOCATION:TuRa Rüdinghausen\, Brunebecker Straße 71\, Witten\, Nordrhein-Westfalen\, 58454\, Germany
CATEGORIES:TuRa,Veranstaltungen
ATTACH;FMTTYPE=image/png:https://hsg-annen-ruedinghausen.de/wp-content/uploads/2024/09/Beachplatz-Opening-2024-e1727004286184.png
END:VEVENT
END:VCALENDAR