BEGIN:VCALENDAR
VERSION:2.0
PRODID:-//HSG Annen-Rüdinghausen - ECPv6.15.20//NONSGML v1.0//EN
CALSCALE:GREGORIAN
METHOD:PUBLISH
X-WR-CALNAME:HSG Annen-Rüdinghausen
X-ORIGINAL-URL:https://hsg-annen-ruedinghausen.de
X-WR-CALDESC:Veranstaltungen für HSG Annen-Rüdinghausen
REFRESH-INTERVAL;VALUE=DURATION:PT1H
X-Robots-Tag:noindex
X-PUBLISHED-TTL:PT1H
BEGIN:VTIMEZONE
TZID:Europe/Berlin
BEGIN:DAYLIGHT
TZOFFSETFROM:+0100
TZOFFSETTO:+0200
TZNAME:CEST
DTSTART:20230326T010000
END:DAYLIGHT
BEGIN:STANDARD
TZOFFSETFROM:+0200
TZOFFSETTO:+0100
TZNAME:CET
DTSTART:20231029T010000
END:STANDARD
BEGIN:DAYLIGHT
TZOFFSETFROM:+0100
TZOFFSETTO:+0200
TZNAME:CEST
DTSTART:20240331T010000
END:DAYLIGHT
BEGIN:STANDARD
TZOFFSETFROM:+0200
TZOFFSETTO:+0100
TZNAME:CET
DTSTART:20241027T010000
END:STANDARD
BEGIN:DAYLIGHT
TZOFFSETFROM:+0100
TZOFFSETTO:+0200
TZNAME:CEST
DTSTART:20250330T010000
END:DAYLIGHT
BEGIN:STANDARD
TZOFFSETFROM:+0200
TZOFFSETTO:+0100
TZNAME:CET
DTSTART:20251026T010000
END:STANDARD
END:VTIMEZONE
BEGIN:VEVENT
DTSTART;TZID=Europe/Berlin:20241007T193000
DTEND;TZID=Europe/Berlin:20241007T203000
DTSTAMP:20260419T232655
CREATED:20240924T043433Z
LAST-MODIFIED:20241005T101349Z
UID:8171-1728329400-1728333000@hsg-annen-ruedinghausen.de
SUMMARY:Infoabend Dronninglund
DESCRIPTION:Auch 2025 wollen wir wieder beim größten Handballturnier dabei sein.\nBeim Infoabend erfahrt ihr alles Wichtige rund um den Cup.
URL:https://hsg-annen-ruedinghausen.de/event/infoabend-dronninglund/
LOCATION:Hüllberghalle\, Hüllbergweg 31\, Witten\, Nordrhein-Westfalen\, 58454\, Germany
CATEGORIES:Veranstaltungen
ATTACH;FMTTYPE=image/png:https://hsg-annen-ruedinghausen.de/wp-content/uploads/2024/09/Infoabend-Dronninglund-Cup-2025-2.png
END:VEVENT
END:VCALENDAR